BEGIN:VCALENDAR
PRODID:-//eluceo/ical//2.0/EN
VERSION:2.0
CALSCALE:GREGORIAN
BEGIN:VEVENT
UID:df3eec3252b64b3d613f9ddbf38185e0
DTSTAMP:20260420T060319Z
SUMMARY:Collateral
DTSTART;TZID=Europe/Prague:20260519T203000
DTEND;TZID=Europe/Prague:20260519T223000
LOCATION:Kino Aero
END:VEVENT
END:VCALENDAR
BEGIN:VCALENDAR
PRODID:-//eluceo/ical//2.0/EN
VERSION:2.0
CALSCALE:GREGORIAN
BEGIN:VEVENT
UID:6d61acf72163d6b67117d25c9fad8b52
DTSTAMP:20260420T060319Z
SUMMARY:Collateral
DTSTART;TZID=Europe/Prague:20260519T203000
DTEND;TZID=Europe/Prague:20260519T223000
LOCATION:Kino Aero
END:VEVENT
END:VCALENDAR
