BEGIN:VCALENDAR
PRODID:-//eluceo/ical//2.0/EN
VERSION:2.0
CALSCALE:GREGORIAN
BEGIN:VEVENT
UID:3ba30aea95277f06a7a9139ff964d65e
DTSTAMP:20260420T091932Z
SUMMARY:Turner & Constable
DTSTART;TZID=Europe/Prague:20260426T130000
DTEND;TZID=Europe/Prague:20260426T143300
LOCATION:Kino Lucerna
END:VEVENT
END:VCALENDAR
BEGIN:VCALENDAR
PRODID:-//eluceo/ical//2.0/EN
VERSION:2.0
CALSCALE:GREGORIAN
BEGIN:VEVENT
UID:3ec29686da12452e93f03531c28ac8dd
DTSTAMP:20260420T091932Z
SUMMARY:Turner & Constable
DTSTART;TZID=Europe/Prague:20260426T130000
DTEND;TZID=Europe/Prague:20260426T143300
LOCATION:Kino Lucerna
END:VEVENT
END:VCALENDAR
