BEGIN:VCALENDAR
PRODID:-//eluceo/ical//2.0/EN
VERSION:2.0
CALSCALE:GREGORIAN
BEGIN:VEVENT
UID:462c9fdfd18453d9fc04da63b3b9d819
DTSTAMP:20260422T085420Z
SUMMARY:Brunaupark
DTSTART;TZID=Europe/Prague:20260507T210000
DTEND;TZID=Europe/Prague:20260507T223100
LOCATION:Kino Světozor
END:VEVENT
END:VCALENDAR
BEGIN:VCALENDAR
PRODID:-//eluceo/ical//2.0/EN
VERSION:2.0
CALSCALE:GREGORIAN
BEGIN:VEVENT
UID:1ea935fdc6b8989a5565abc5b1b58130
DTSTAMP:20260422T085420Z
SUMMARY:Brunaupark
DTSTART;TZID=Europe/Prague:20260507T210000
DTEND;TZID=Europe/Prague:20260507T223100
LOCATION:Kino Světozor
END:VEVENT
END:VCALENDAR
