BEGIN:VCALENDAR
PRODID:-//eluceo/ical//2.0/EN
VERSION:2.0
CALSCALE:GREGORIAN
BEGIN:VEVENT
UID:80d2259a9e954572b8ce3731ec347ef5
DTSTAMP:20260421T082649Z
SUMMARY:Hlas Hind Radžab
DTSTART;TZID=Europe/Prague:20260313T203000
DTEND;TZID=Europe/Prague:20260313T215900
LOCATION:Kino Lucerna
END:VEVENT
END:VCALENDAR
BEGIN:VCALENDAR
PRODID:-//eluceo/ical//2.0/EN
VERSION:2.0
CALSCALE:GREGORIAN
BEGIN:VEVENT
UID:7a66a9fbac2a0d9460fdd0b49dd1f94a
DTSTAMP:20260421T082649Z
SUMMARY:Hlas Hind Radžab
DTSTART;TZID=Europe/Prague:20260313T203000
DTEND;TZID=Europe/Prague:20260313T215900
LOCATION:Kino Lucerna
END:VEVENT
END:VCALENDAR
