BEGIN:VCALENDAR
PRODID:-//eluceo/ical//2.0/EN
VERSION:2.0
CALSCALE:GREGORIAN
BEGIN:VEVENT
UID:2de0bbe9231b3d3668d5dcf6c7cfd906
DTSTAMP:20260421T085057Z
SUMMARY:Na skok do divočiny
DTSTART;TZID=Europe/Prague:20260314T130000
DTEND;TZID=Europe/Prague:20260314T144500
LOCATION:Bio Central
END:VEVENT
END:VCALENDAR
BEGIN:VCALENDAR
PRODID:-//eluceo/ical//2.0/EN
VERSION:2.0
CALSCALE:GREGORIAN
BEGIN:VEVENT
UID:a0bf079ca3ca886b91161f0e485816e6
DTSTAMP:20260421T085057Z
SUMMARY:Na skok do divočiny
DTSTART;TZID=Europe/Prague:20260314T130000
DTEND;TZID=Europe/Prague:20260314T144500
LOCATION:Bio Central
END:VEVENT
END:VCALENDAR
