BEGIN:VCALENDAR
PRODID:-//eluceo/ical//2.0/EN
VERSION:2.0
CALSCALE:GREGORIAN
BEGIN:VEVENT
UID:dd13bc539123be075370e89465a89331
DTSTAMP:20260420T055925Z
SUMMARY:Tančírna
DTSTART;TZID=Europe/Prague:20260427T200000
DTEND;TZID=Europe/Prague:20260427T215200
LOCATION:Bio Central
END:VEVENT
END:VCALENDAR
BEGIN:VCALENDAR
PRODID:-//eluceo/ical//2.0/EN
VERSION:2.0
CALSCALE:GREGORIAN
BEGIN:VEVENT
UID:a91facb4dc4c82882858fb29467ff871
DTSTAMP:20260420T055925Z
SUMMARY:Tančírna
DTSTART;TZID=Europe/Prague:20260427T200000
DTEND;TZID=Europe/Prague:20260427T215200
LOCATION:Bio Central
END:VEVENT
END:VCALENDAR
