BEGIN:VCALENDAR
PRODID:-//eluceo/ical//2.0/EN
VERSION:2.0
CALSCALE:GREGORIAN
BEGIN:VEVENT
UID:570c2aedaf9cae149a4c7953baf8b6a4
DTSTAMP:20260420T055522Z
SUMMARY:Pan Nikdo proti Putinovi
DTSTART;TZID=Europe/Prague:20260421T150000
DTEND;TZID=Europe/Prague:20260421T163000
LOCATION:Kino Světozor
END:VEVENT
END:VCALENDAR
BEGIN:VCALENDAR
PRODID:-//eluceo/ical//2.0/EN
VERSION:2.0
CALSCALE:GREGORIAN
BEGIN:VEVENT
UID:8eb653fd93bc2ef081f38c02fafc9622
DTSTAMP:20260420T055522Z
SUMMARY:Pan Nikdo proti Putinovi
DTSTART;TZID=Europe/Prague:20260421T150000
DTEND;TZID=Europe/Prague:20260421T163000
LOCATION:Kino Světozor
END:VEVENT
END:VCALENDAR
