BEGIN:VCALENDAR
PRODID:-//eluceo/ical//2.0/EN
VERSION:2.0
CALSCALE:GREGORIAN
BEGIN:VEVENT
UID:fa6b9ca5fa97e0500f282b1c8419310f
DTSTAMP:20260420T055445Z
SUMMARY:Otec Matka Sestra Bratr
DTSTART;TZID=Europe/Prague:20260421T174500
DTEND;TZID=Europe/Prague:20260421T193500
LOCATION:Kino Světozor
END:VEVENT
END:VCALENDAR
BEGIN:VCALENDAR
PRODID:-//eluceo/ical//2.0/EN
VERSION:2.0
CALSCALE:GREGORIAN
BEGIN:VEVENT
UID:409eda29e98303c397bc3b9b89e263f2
DTSTAMP:20260420T055445Z
SUMMARY:Otec Matka Sestra Bratr
DTSTART;TZID=Europe/Prague:20260421T174500
DTEND;TZID=Europe/Prague:20260421T193500
LOCATION:Kino Světozor
END:VEVENT
END:VCALENDAR
