BEGIN:VCALENDAR
PRODID:-//eluceo/ical//2.0/EN
VERSION:2.0
CALSCALE:GREGORIAN
BEGIN:VEVENT
UID:4a148be58002b8e79e4e09963234107c
DTSTAMP:20260420T055804Z
SUMMARY:Otec Matka Sestra Bratr
DTSTART;TZID=Europe/Prague:20260422T174500
DTEND;TZID=Europe/Prague:20260422T193500
LOCATION:Kino Světozor
END:VEVENT
END:VCALENDAR
BEGIN:VCALENDAR
PRODID:-//eluceo/ical//2.0/EN
VERSION:2.0
CALSCALE:GREGORIAN
BEGIN:VEVENT
UID:3d5e3d0e0f585f34bc6eaa72c56c8118
DTSTAMP:20260420T055804Z
SUMMARY:Otec Matka Sestra Bratr
DTSTART;TZID=Europe/Prague:20260422T174500
DTEND;TZID=Europe/Prague:20260422T193500
LOCATION:Kino Světozor
END:VEVENT
END:VCALENDAR
