BEGIN:VCALENDAR
PRODID:-//eluceo/ical//2.0/EN
VERSION:2.0
CALSCALE:GREGORIAN
BEGIN:VEVENT
UID:e19b816f96c6161b13432b6a2c34c6c6
DTSTAMP:20260420T055813Z
SUMMARY:Citová hodnota
DTSTART;TZID=Europe/Prague:20260422T201500
DTEND;TZID=Europe/Prague:20260422T223000
LOCATION:Bio Oko
END:VEVENT
END:VCALENDAR
BEGIN:VCALENDAR
PRODID:-//eluceo/ical//2.0/EN
VERSION:2.0
CALSCALE:GREGORIAN
BEGIN:VEVENT
UID:910e9226256b52506aacc828d75ea1cb
DTSTAMP:20260420T055813Z
SUMMARY:Citová hodnota
DTSTART;TZID=Europe/Prague:20260422T201500
DTEND;TZID=Europe/Prague:20260422T223000
LOCATION:Bio Oko
END:VEVENT
END:VCALENDAR
