BEGIN:VCALENDAR
PRODID:-//eluceo/ical//2.0/EN
VERSION:2.0
CALSCALE:GREGORIAN
BEGIN:VEVENT
UID:301c0faa5556379b03c6d10bb795de28
DTSTAMP:20260420T060017Z
SUMMARY:Matka
DTSTART;TZID=Europe/Prague:20260508T130000
DTEND;TZID=Europe/Prague:20260508T144000
LOCATION:Kino Lucerna
END:VEVENT
END:VCALENDAR
BEGIN:VCALENDAR
PRODID:-//eluceo/ical//2.0/EN
VERSION:2.0
CALSCALE:GREGORIAN
BEGIN:VEVENT
UID:0139fff371ba31ab55735ef6182690ba
DTSTAMP:20260420T060017Z
SUMMARY:Matka
DTSTART;TZID=Europe/Prague:20260508T130000
DTEND;TZID=Europe/Prague:20260508T144000
LOCATION:Kino Lucerna
END:VEVENT
END:VCALENDAR
