BEGIN:VCALENDAR
PRODID:-//eluceo/ical//2.0/EN
VERSION:2.0
CALSCALE:GREGORIAN
BEGIN:VEVENT
UID:9faa7d3d0d7e3d4c9a6e135096b2a153
DTSTAMP:20260420T091851Z
SUMMARY:Šepot lesa
DTSTART;TZID=Europe/Prague:20260518T150000
DTEND;TZID=Europe/Prague:20260518T163500
LOCATION:Kino Lucerna
END:VEVENT
END:VCALENDAR
BEGIN:VCALENDAR
PRODID:-//eluceo/ical//2.0/EN
VERSION:2.0
CALSCALE:GREGORIAN
BEGIN:VEVENT
UID:a3cf2e7f13b7a9f99ed486d9e0ae34eb
DTSTAMP:20260420T091851Z
SUMMARY:Šepot lesa
DTSTART;TZID=Europe/Prague:20260518T150000
DTEND;TZID=Europe/Prague:20260518T163500
LOCATION:Kino Lucerna
END:VEVENT
END:VCALENDAR
