BEGIN:VCALENDAR
PRODID:-//eluceo/ical//2.0/EN
VERSION:2.0
CALSCALE:GREGORIAN
BEGIN:VEVENT
UID:5aa0678a7c3cb67db74cbb66da69edc0
DTSTAMP:20260420T055643Z
SUMMARY:Milost
DTSTART;TZID=Europe/Prague:20260425T130000
DTEND;TZID=Europe/Prague:20260425T151100
LOCATION:Kino Lucerna
END:VEVENT
END:VCALENDAR
BEGIN:VCALENDAR
PRODID:-//eluceo/ical//2.0/EN
VERSION:2.0
CALSCALE:GREGORIAN
BEGIN:VEVENT
UID:4408e6ff716b5b6fb1495a38ee289edc
DTSTAMP:20260420T055643Z
SUMMARY:Milost
DTSTART;TZID=Europe/Prague:20260425T130000
DTEND;TZID=Europe/Prague:20260425T151100
LOCATION:Kino Lucerna
END:VEVENT
END:VCALENDAR
