BEGIN:VCALENDAR
PRODID:-//eluceo/ical//2.0/EN
VERSION:2.0
CALSCALE:GREGORIAN
BEGIN:VEVENT
UID:b075295ea1b9e2ace13f303bd9b7196e
DTSTAMP:20260420T060218Z
SUMMARY:Milost
DTSTART;TZID=Europe/Prague:20260426T174500
DTEND;TZID=Europe/Prague:20260426T195600
LOCATION:Kino Lucerna
END:VEVENT
END:VCALENDAR
BEGIN:VCALENDAR
PRODID:-//eluceo/ical//2.0/EN
VERSION:2.0
CALSCALE:GREGORIAN
BEGIN:VEVENT
UID:2ad705c1f7160d57472339d318c33164
DTSTAMP:20260420T060218Z
SUMMARY:Milost
DTSTART;TZID=Europe/Prague:20260426T174500
DTEND;TZID=Europe/Prague:20260426T195600
LOCATION:Kino Lucerna
END:VEVENT
END:VCALENDAR
