BEGIN:VCALENDAR
PRODID:-//eluceo/ical//2.0/EN
VERSION:2.0
CALSCALE:GREGORIAN
BEGIN:VEVENT
UID:a562a68688bc925b6dab5927519b7aac
DTSTAMP:20260420T055650Z
SUMMARY:Šťastná hvězda
DTSTART;TZID=Europe/Prague:20260508T140000
DTEND;TZID=Europe/Prague:20260508T154200
LOCATION:Bio Central
END:VEVENT
END:VCALENDAR
BEGIN:VCALENDAR
PRODID:-//eluceo/ical//2.0/EN
VERSION:2.0
CALSCALE:GREGORIAN
BEGIN:VEVENT
UID:e0c61ab1177421ec96b9f89f51c146b2
DTSTAMP:20260420T055650Z
SUMMARY:Šťastná hvězda
DTSTART;TZID=Europe/Prague:20260508T140000
DTEND;TZID=Europe/Prague:20260508T154200
LOCATION:Bio Central
END:VEVENT
END:VCALENDAR
