BEGIN:VCALENDAR
PRODID:-//eluceo/ical//2.0/EN
VERSION:2.0
CALSCALE:GREGORIAN
BEGIN:VEVENT
UID:e28eb6db51def0d22d67a43bbf736a0e
DTSTAMP:20260420T055656Z
SUMMARY:Pan Nikdo proti Putinovi
DTSTART;TZID=Europe/Prague:20260428T154500
DTEND;TZID=Europe/Prague:20260428T171500
LOCATION:Kino Lucerna
END:VEVENT
END:VCALENDAR
BEGIN:VCALENDAR
PRODID:-//eluceo/ical//2.0/EN
VERSION:2.0
CALSCALE:GREGORIAN
BEGIN:VEVENT
UID:63c25115d17237691f0f06ad122733ec
DTSTAMP:20260420T055656Z
SUMMARY:Pan Nikdo proti Putinovi
DTSTART;TZID=Europe/Prague:20260428T154500
DTEND;TZID=Europe/Prague:20260428T171500
LOCATION:Kino Lucerna
END:VEVENT
END:VCALENDAR
