BEGIN:VCALENDAR
PRODID:-//eluceo/ical//2.0/EN
VERSION:2.0
CALSCALE:GREGORIAN
BEGIN:VEVENT
UID:b57dabdc4f0f911320a948ab10c2ecaa
DTSTAMP:20260420T055238Z
SUMMARY:Pan Nikdo proti Putinovi
DTSTART;TZID=Europe/Prague:20260427T141500
DTEND;TZID=Europe/Prague:20260427T154500
LOCATION:Kino Světozor
END:VEVENT
END:VCALENDAR
BEGIN:VCALENDAR
PRODID:-//eluceo/ical//2.0/EN
VERSION:2.0
CALSCALE:GREGORIAN
BEGIN:VEVENT
UID:fd920fca32f4faa6fcdac676048879fd
DTSTAMP:20260420T055238Z
SUMMARY:Pan Nikdo proti Putinovi
DTSTART;TZID=Europe/Prague:20260427T141500
DTEND;TZID=Europe/Prague:20260427T154500
LOCATION:Kino Světozor
END:VEVENT
END:VCALENDAR
