BEGIN:VCALENDAR
PRODID:-//eluceo/ical//2.0/EN
VERSION:2.0
CALSCALE:GREGORIAN
BEGIN:VEVENT
UID:48251c486409f072cad8c4233d91fd34
DTSTAMP:20260420T060115Z
SUMMARY:Pan Nikdo proti Putinovi
DTSTART;TZID=Europe/Prague:20260423T151500
DTEND;TZID=Europe/Prague:20260423T164500
LOCATION:Kino Světozor
END:VEVENT
END:VCALENDAR
BEGIN:VCALENDAR
PRODID:-//eluceo/ical//2.0/EN
VERSION:2.0
CALSCALE:GREGORIAN
BEGIN:VEVENT
UID:5cf1575620052aab3e33abff8e462a44
DTSTAMP:20260420T060115Z
SUMMARY:Pan Nikdo proti Putinovi
DTSTART;TZID=Europe/Prague:20260423T151500
DTEND;TZID=Europe/Prague:20260423T164500
LOCATION:Kino Světozor
END:VEVENT
END:VCALENDAR
