BEGIN:VCALENDAR
PRODID:-//eluceo/ical//2.0/EN
VERSION:2.0
CALSCALE:GREGORIAN
BEGIN:VEVENT
UID:783b29a4bc6ef506c524a818753213b0
DTSTAMP:20260420T055344Z
SUMMARY:Pan Nikdo proti Putinovi
DTSTART;TZID=Europe/Prague:20260425T120000
DTEND;TZID=Europe/Prague:20260425T133000
LOCATION:Kino Světozor
END:VEVENT
END:VCALENDAR
BEGIN:VCALENDAR
PRODID:-//eluceo/ical//2.0/EN
VERSION:2.0
CALSCALE:GREGORIAN
BEGIN:VEVENT
UID:9bb18f55a4072423c2d070fac190f506
DTSTAMP:20260420T055344Z
SUMMARY:Pan Nikdo proti Putinovi
DTSTART;TZID=Europe/Prague:20260425T120000
DTEND;TZID=Europe/Prague:20260425T133000
LOCATION:Kino Světozor
END:VEVENT
END:VCALENDAR
