BEGIN:VCALENDAR
PRODID:-//eluceo/ical//2.0/EN
VERSION:2.0
CALSCALE:GREGORIAN
BEGIN:VEVENT
UID:ccc43f147aa9bdf1c399373ada8d7425
DTSTAMP:20260420T060028Z
SUMMARY:Pan Nikdo proti Putinovi
DTSTART;TZID=Europe/Prague:20260426T204500
DTEND;TZID=Europe/Prague:20260426T221500
LOCATION:Kino Světozor
END:VEVENT
END:VCALENDAR
BEGIN:VCALENDAR
PRODID:-//eluceo/ical//2.0/EN
VERSION:2.0
CALSCALE:GREGORIAN
BEGIN:VEVENT
UID:edc418862f5da834084710b0cd189eb1
DTSTAMP:20260420T060028Z
SUMMARY:Pan Nikdo proti Putinovi
DTSTART;TZID=Europe/Prague:20260426T204500
DTEND;TZID=Europe/Prague:20260426T221500
LOCATION:Kino Světozor
END:VEVENT
END:VCALENDAR
