BEGIN:VCALENDAR
PRODID:-//eluceo/ical//2.0/EN
VERSION:2.0
CALSCALE:GREGORIAN
BEGIN:VEVENT
UID:21831304d4871909d0c017d3d22e2372
DTSTAMP:20260420T055507Z
SUMMARY:Otec Matka Sestra Bratr
DTSTART;TZID=Europe/Prague:20260425T123000
DTEND;TZID=Europe/Prague:20260425T142000
LOCATION:Kino Světozor
END:VEVENT
END:VCALENDAR
BEGIN:VCALENDAR
PRODID:-//eluceo/ical//2.0/EN
VERSION:2.0
CALSCALE:GREGORIAN
BEGIN:VEVENT
UID:d45ba4d5907d46e977ddd8f039bffdbd
DTSTAMP:20260420T055507Z
SUMMARY:Otec Matka Sestra Bratr
DTSTART;TZID=Europe/Prague:20260425T123000
DTEND;TZID=Europe/Prague:20260425T142000
LOCATION:Kino Světozor
END:VEVENT
END:VCALENDAR
