BEGIN:VCALENDAR
PRODID:-//eluceo/ical//2.0/EN
VERSION:2.0
CALSCALE:GREGORIAN
BEGIN:VEVENT
UID:751cdbf76083e812a939cd6637a69fd3
DTSTAMP:20260420T055238Z
SUMMARY:Otec Matka Sestra Bratr
DTSTART;TZID=Europe/Prague:20260426T114500
DTEND;TZID=Europe/Prague:20260426T133500
LOCATION:Kino Světozor
END:VEVENT
END:VCALENDAR
BEGIN:VCALENDAR
PRODID:-//eluceo/ical//2.0/EN
VERSION:2.0
CALSCALE:GREGORIAN
BEGIN:VEVENT
UID:c9a75cee9b368c9a88d6c76848345de2
DTSTAMP:20260420T055238Z
SUMMARY:Otec Matka Sestra Bratr
DTSTART;TZID=Europe/Prague:20260426T114500
DTEND;TZID=Europe/Prague:20260426T133500
LOCATION:Kino Světozor
END:VEVENT
END:VCALENDAR
