BEGIN:VCALENDAR
PRODID:-//eluceo/ical//2.0/EN
VERSION:2.0
CALSCALE:GREGORIAN
BEGIN:VEVENT
UID:fd7709b69787f03f4b95e2bb8057cec7
DTSTAMP:20260420T055344Z
SUMMARY:Otec Matka Sestra Bratr
DTSTART;TZID=Europe/Prague:20260507T133000
DTEND;TZID=Europe/Prague:20260507T152000
LOCATION:Kino Aero
END:VEVENT
END:VCALENDAR
BEGIN:VCALENDAR
PRODID:-//eluceo/ical//2.0/EN
VERSION:2.0
CALSCALE:GREGORIAN
BEGIN:VEVENT
UID:a67971a98677b0e06341adefba5b4573
DTSTAMP:20260420T055344Z
SUMMARY:Otec Matka Sestra Bratr
DTSTART;TZID=Europe/Prague:20260507T133000
DTEND;TZID=Europe/Prague:20260507T152000
LOCATION:Kino Aero
END:VEVENT
END:VCALENDAR
