BEGIN:VCALENDAR
PRODID:-//eluceo/ical//2.0/EN
VERSION:2.0
CALSCALE:GREGORIAN
BEGIN:VEVENT
UID:e3a4a4ed560b0bd1a2bf8a39e6505d12
DTSTAMP:20260420T055618Z
SUMMARY:Pan Nikdo proti Putinovi
DTSTART;TZID=Europe/Prague:20260512T150000
DTEND;TZID=Europe/Prague:20260512T163000
LOCATION:Kino Aero
END:VEVENT
END:VCALENDAR
BEGIN:VCALENDAR
PRODID:-//eluceo/ical//2.0/EN
VERSION:2.0
CALSCALE:GREGORIAN
BEGIN:VEVENT
UID:ef12a1eef6348ac71c799f656933102e
DTSTAMP:20260420T055618Z
SUMMARY:Pan Nikdo proti Putinovi
DTSTART;TZID=Europe/Prague:20260512T150000
DTEND;TZID=Europe/Prague:20260512T163000
LOCATION:Kino Aero
END:VEVENT
END:VCALENDAR
