BEGIN:VCALENDAR
PRODID:-//eluceo/ical//2.0/EN
VERSION:2.0
CALSCALE:GREGORIAN
BEGIN:VEVENT
UID:0c3e375d6bc5df118805a17f4e9d04b9
DTSTAMP:20260420T092301Z
SUMMARY:Šepot lesa
DTSTART;TZID=Europe/Prague:20260521T133000
DTEND;TZID=Europe/Prague:20260521T150500
LOCATION:Kino Aero
END:VEVENT
END:VCALENDAR
BEGIN:VCALENDAR
PRODID:-//eluceo/ical//2.0/EN
VERSION:2.0
CALSCALE:GREGORIAN
BEGIN:VEVENT
UID:8fa0c8eaf6e1fdcbfa1403857cda6c2d
DTSTAMP:20260420T092301Z
SUMMARY:Šepot lesa
DTSTART;TZID=Europe/Prague:20260521T133000
DTEND;TZID=Europe/Prague:20260521T150500
LOCATION:Kino Aero
END:VEVENT
END:VCALENDAR
